BEGIN:VCALENDAR
VERSION:2.0
PRODID:-//194.191.24.48//NONSGML kigkonsult.se iCalcreator 2.20//
CALSCALE:GREGORIAN
METHOD:PUBLISH
X-WR-TIMEZONE:UTC
BEGIN:VEVENT
UID:event333@ovhegi
DTSTAMP:20260421T071227Z
CATEGORIES:Alternative
DESCRIPTION:Gaming Day Oberi\nKategorie: Alternative\nICS-Link: http://ovhe
 gi.ch/index.php?option=com_jem&view=event&id=333:gaming-day-oberi\n
DTSTART:20260509T100000Z
DTEND:20260509T180000Z
LOCATION:Campo\,zum Park5\,8404 Winterthur
SUMMARY:Gaming Day Oberi
URL:http://ovhegi.ch/index.php?option=com_jem&view=event&id=333:gaming-day-
 oberi
END:VEVENT
END:VCALENDAR