BEGIN:VCALENDAR
VERSION:2.0
PRODID:-//194.191.24.48//NONSGML kigkonsult.se iCalcreator 2.20//
CALSCALE:GREGORIAN
METHOD:PUBLISH
X-WR-TIMEZONE:UTC
BEGIN:VEVENT
UID:event18@ovhegi
DTSTAMP:20260421T032026Z
CATEGORIES:OV-Hegi
DESCRIPTION:Hegemer Adventsfenster\nKategorie: OV-Hegi\nICS-Link: https://o
 vhegi.ch/index.php?option=com_jem&view=event&id=18:hegemer-adventsfenster
 \n
DTSTART;VALUE=DATE:20251201
DTEND;VALUE=DATE:20251225
LOCATION:Stadtteil Hegi\,Hegi
SUMMARY:Hegemer Adventsfenster
URL:https://ovhegi.ch/index.php?option=com_jem&view=event&id=18:hegemer-adv
 entsfenster
END:VEVENT
END:VCALENDAR